BEGIN:VCALENDAR
VERSION:2.0
PRODID:-//Cinémathèque de la vielle du Luxembourg//Site web//FR
BEGIN:VEVENT
UID:5ef122b1-b122-45fb-aa9a-b4913f5c1111@cinematheque.lu
DTSTART;TZID=Europe/Monaco:20260509T183000
DTSTAMP:20260421T200530Z
SUMMARY:River of No Return
LOCATION:https://cinematheque.lu/fr/programme/le-mystere-marilyn-monroe/river-no-return
END:VEVENT
END:VCALENDAR