BEGIN:VCALENDAR
VERSION:2.0
PRODID:-//Cinémathèque de la vielle du Luxembourg//Site web//FR
BEGIN:VEVENT
UID:54432d55-d960-4fa6-8255-0cb071436d7a@cinematheque.lu
DTSTART;TZID=Europe/Monaco:20260508T204500
DTSTAMP:20260421T152500Z
SUMMARY:Gentlemen Prefer Blondes
LOCATION:https://cinematheque.lu/fr/programme/le-mystere-marilyn-monroe/gentlemen-prefer-blondes
END:VEVENT
END:VCALENDAR