BEGIN:VCALENDAR
VERSION:2.0
PRODID:-//Cinémathèque de la vielle du Luxembourg//Site web//FR
BEGIN:VEVENT
UID:79c81d82-6b74-4ddf-aad3-00e5b6bacda0@cinematheque.lu
DTSTART;TZID=Europe/Monaco:20260521T183000
DTSTAMP:20260420T161703Z
SUMMARY:La Nouvelle Vague estivale
LOCATION:https://cinematheque.lu/fr/programme/la-nouvelle-vague/la-nouvelle-vague-estivale
END:VEVENT
END:VCALENDAR