BEGIN:VCALENDAR
VERSION:2.0
PRODID:-//Cinémathèque de la vielle du Luxembourg//Site web//FR
BEGIN:VEVENT
UID:2f435109-706b-4f86-b8ba-143e0f413643@cinematheque.lu
DTSTART;TZID=Europe/Monaco:20260508T180000
DTSTAMP:20260420T114702Z
SUMMARY:Ciné-conférence «Eine WG für Europa»
LOCATION:https://cinematheque.lu/fr/programme/seance-speciale-loccasion-de-la-journee-de-leurope-2026/cine-conference-eine-wg-fur
END:VEVENT
END:VCALENDAR