BEGIN:VCALENDAR
VERSION:2.0
PRODID:-//Cinémathèque de la vielle du Luxembourg//Site web//FR
BEGIN:VEVENT
UID:5d5f192d-588c-41f6-a10e-f169afd1fe0d@cinematheque.lu
DTSTART;TZID=Europe/Monaco:20260428T190000
DTSTAMP:20260421T105514Z
SUMMARY:Ciné-débat avec extraits de film «Die Ermittlung»
LOCATION:https://cinematheque.lu/fr/programme/cine-debat-die-ermittlung/cine-debat-avec-extraits-de-film-die-ermittlung
END:VEVENT
END:VCALENDAR