BEGIN:VCALENDAR
VERSION:2.0
PRODID:-//Cinémathèque de la vielle du Luxembourg//Site web//FR
BEGIN:VEVENT
UID:bd5370e5-ac34-4867-833d-efc0f14984b4@cinematheque.lu
DTSTART;TZID=Europe/Monaco:20260610T190000
DTSTAMP:20260422T153224Z
SUMMARY:Ciné-conférence «Le cinéma iranien»
LOCATION:https://cinematheque.lu/fr/programme/cine-conference-film-politik/cine-conference-le-cinema-iranien
END:VEVENT
END:VCALENDAR