BEGIN:VCALENDAR
VERSION:2.0
PRODID:-//Cinémathèque de la vielle du Luxembourg//Site web//FR
BEGIN:VEVENT
UID:a2c7ab10-5e37-43d1-a889-182462b9cafd@cinematheque.lu
DTSTART;TZID=Europe/Monaco:20260610T181500
DTSTAMP:20260423T002446Z
SUMMARY:Deep Crimson : Director’s Cut
LOCATION:https://cinematheque.lu/fr/programme/great-restorations/deep-crimson-directors-cut
END:VEVENT
END:VCALENDAR