BEGIN:VCALENDAR
VERSION:2.0
PRODID:-//Cinémathèque de la vielle du Luxembourg//Site web//FR
BEGIN:VEVENT
UID:7b586b7c-3e7d-47a6-a165-7fd4d89e74cf@cinematheque.lu
DTSTART;TZID=Europe/Monaco:20260521T143000
DTSTAMP:20260421T200443Z
SUMMARY:Certains l’aiment chaud
LOCATION:https://cinematheque.lu/fr/programme/kino-mat-haerz-mat-kaffi/certains-laiment-chaud
END:VEVENT
END:VCALENDAR