BEGIN:VCALENDAR
VERSION:2.0
PRODID:-//Cinémathèque de la vielle du Luxembourg//Site web//FR
BEGIN:VEVENT
UID:33db1a50-dd10-4c93-a060-facd031b8e52@cinematheque.lu
DTSTART;TZID=Europe/Monaco:20260615T183000
DTSTAMP:20260422T225901Z
SUMMARY:Bad Living
LOCATION:https://cinematheque.lu/fr/programme/joao-canijo/bad-living
END:VEVENT
END:VCALENDAR