BEGIN:VCALENDAR
VERSION:2.0
PRODID:-//Cinémathèque de la vielle du Luxembourg//Site web//FR
BEGIN:VEVENT
UID:3cb6c459-f2c0-460b-bb86-c958baf5f803@cinematheque.lu
DTSTART;TZID=Europe/Monaco:20260527T201500
DTSTAMP:20260422T183641Z
SUMMARY:How to Marry a Millionaire
LOCATION:https://cinematheque.lu/fr/programme/le-mystere-marilyn-monroe/how-marry-millionaire
END:VEVENT
END:VCALENDAR