BEGIN:VCALENDAR
VERSION:2.0
PRODID:-//Cinémathèque de la vielle du Luxembourg//Site web//FR
BEGIN:VEVENT
UID:ff8824a3-78f6-407e-90f2-3e5a106fee14@cinematheque.lu
DTSTART;TZID=Europe/Monaco:20260526T181500
DTSTAMP:20260422T183732Z
SUMMARY:Rashomon
LOCATION:https://cinematheque.lu/fr/programme/great-restorations/rashomon
END:VEVENT
END:VCALENDAR