BEGIN:VCALENDAR
VERSION:2.0
PRODID:-//Cinémathèque de la vielle du Luxembourg//Site web//FR
BEGIN:VEVENT
UID:8bf37c08-c5e4-455a-a6d6-343a0b9f6a4a@cinematheque.lu
DTSTART;TZID=Europe/Monaco:20260524T171500
DTSTAMP:20260422T212537Z
SUMMARY:Paris nous appartient
LOCATION:https://cinematheque.lu/fr/programme/la-nouvelle-vague/paris-nous-appartient
END:VEVENT
END:VCALENDAR