BEGIN:VCALENDAR
VERSION:2.0
PRODID:-//Cinémathèque de la vielle du Luxembourg//Site web//FR
BEGIN:VEVENT
UID:7a1069e3-f88d-40c1-9d99-158df8db1e1c@cinematheque.lu
DTSTART;TZID=Europe/Monaco:20260521T200000
DTSTAMP:20260421T213413Z
SUMMARY:Close Encounters of the Third Kind
LOCATION:https://cinematheque.lu/fr/programme/great-restorations/close-encounters-third-kind
END:VEVENT
END:VCALENDAR