BEGIN:VCALENDAR
VERSION:2.0
PRODID:-//Cinémathèque de la vielle du Luxembourg//Site web//FR
BEGIN:VEVENT
UID:c0ef2728-d2b6-46e5-a63b-2d2bed4d1a7f@cinematheque.lu
DTSTART;TZID=Europe/Monaco:20260608T203000
DTSTAMP:20260421T183129Z
SUMMARY:Some Like it Hot
LOCATION:https://cinematheque.lu/fr/programme/le-mystere-marilyn-monroe/some-it-hot
END:VEVENT
END:VCALENDAR