BEGIN:VCALENDAR
VERSION:2.0
PRODID:-//Cinémathèque de la vielle du Luxembourg//Site web//FR
BEGIN:VEVENT
UID:442f6003-065f-49ae-b72b-79068a46d870@cinematheque.lu
DTSTART;TZID=Europe/Monaco:20260511T190000
DTSTAMP:20260421T152553Z
SUMMARY:Antonio, the Spanish Dancer
LOCATION:https://cinematheque.lu/fr/programme/le-cinema-au-rythme-du-flamenco/antonio-spanish-dancer
END:VEVENT
END:VCALENDAR