BEGIN:VCALENDAR
VERSION:2.0
PRODID:-//Cinémathèque de la vielle du Luxembourg//Site web//FR
BEGIN:VEVENT
UID:ca3b58c2-499a-440f-8cbe-946b6be20ee3@cinematheque.lu
DTSTART;TZID=Europe/Monaco:20260510T190000
DTSTAMP:20260421T200652Z
SUMMARY:Manila in the Claws of Light
LOCATION:https://cinematheque.lu/fr/programme/lino-brocka/manila-claws-light
END:VEVENT
END:VCALENDAR