BEGIN:VCALENDAR
VERSION:2.0
PRODID:-//Cinémathèque de la vielle du Luxembourg//Site web//FR
BEGIN:VEVENT
UID:0b81d062-0609-45cc-aa59-35905d5220d9@cinematheque.lu
DTSTART;TZID=Europe/Monaco:20260610T210000
DTSTAMP:20260421T165328Z
SUMMARY:Infernal Affairs
LOCATION:https://cinematheque.lu/fr/programme/cinematic-siblings/infernal-affairs
END:VEVENT
END:VCALENDAR