BEGIN:VCALENDAR
VERSION:2.0
PRODID:-//Cinémathèque de la vielle du Luxembourg//Site web//FR
BEGIN:VEVENT
UID:7599930c-2d14-43dc-852d-dc610b129d21@cinematheque.lu
DTSTART;TZID=Europe/Monaco:20260509T160000
DTSTAMP:20260420T144425Z
SUMMARY:Les Quatre Cents Coups
LOCATION:https://cinematheque.lu/fr/programme/afternoon-adventures/les-quatre-cents-coups
END:VEVENT
END:VCALENDAR