BEGIN:VCALENDAR
VERSION:2.0
PRODID:-//Cinémathèque de la vielle du Luxembourg//Site web//FR
BEGIN:VEVENT
UID:2d63a951-027b-4024-9d1f-a3bc7bcff43e@cinematheque.lu
DTSTART;TZID=Europe/Monaco:20260525T200000
DTSTAMP:20260421T213321Z
SUMMARY:Birdman or (The Unexpected Virtue of Ignorance)   
LOCATION:https://cinematheque.lu/fr/programme/universite-populaire-du-cinema/birdman-or-unexpected-virtue-ignorance
END:VEVENT
END:VCALENDAR