BEGIN:VCALENDAR
VERSION:2.0
PRODID:-//Cinémathèque de la vielle du Luxembourg//Site web//FR
BEGIN:VEVENT
UID:4e591d1c-127f-45fc-bacd-2d3c907878a6@cinematheque.lu
DTSTART;TZID=Europe/Monaco:20260614T170000
DTSTAMP:20260421T135122Z
SUMMARY:L\'Anglaise et le duc 
LOCATION:https://cinematheque.lu/fr/programme/universite-populaire-du-cinema/langlaise-et-le-duc
END:VEVENT
END:VCALENDAR