BEGIN:VCALENDAR
VERSION:2.0
PRODID:-//Cinémathèque de la vielle du Luxembourg//Site web//FR
BEGIN:VEVENT
UID:5a9597c2-d5a8-48fa-999c-d97cac63fe5c@cinematheque.lu
DTSTART;TZID=Europe/Monaco:20260510T170000
DTSTAMP:20260421T200433Z
SUMMARY:The Zone of Interest
LOCATION:https://cinematheque.lu/fr/programme/universite-populaire-du-cinema/zone-interest
END:VEVENT
END:VCALENDAR