BEGIN:VCALENDAR
VERSION:2.0
PRODID:-//Cinémathèque de la vielle du Luxembourg//Site web//FR
BEGIN:VEVENT
UID:b0674547-f49c-4eae-9345-ead507d3347d@cinematheque.lu
DTSTART;TZID=Europe/Monaco:20251221T150000
DTSTAMP:20260426T001418Z
SUMMARY:Lauras Stern
LOCATION:https://cinematheque.lu/fr/programme/cinema-paradiso/lauras-stern
END:VEVENT
END:VCALENDAR