BEGIN:VCALENDAR
VERSION:2.0
PRODID:-//Cinémathèque de la vielle du Luxembourg//Site web//FR
BEGIN:VEVENT
UID:138d57b1-3443-4f44-ac07-9689a95267f5@cinematheque.lu
DTSTART;TZID=Europe/Monaco:20260611T200000
DTSTAMP:20260422T200412Z
SUMMARY:Macho Dancer
LOCATION:https://cinematheque.lu/fr/programme/lino-brocka/macho-dancer
END:VEVENT
END:VCALENDAR