BEGIN:VCALENDAR
VERSION:2.0
PRODID:-//Cinémathèque de la vielle du Luxembourg//Site web//FR
BEGIN:VEVENT
UID:c4f347cd-a237-4cdb-9360-b01c1ea69e6c@cinematheque.lu
DTSTART;TZID=Europe/Monaco:20260611T183000
DTSTAMP:20260422T184400Z
SUMMARY:Don’t Bother to Knock
LOCATION:https://cinematheque.lu/fr/programme/le-mystere-marilyn-monroe/dont-bother-knock
END:VEVENT
END:VCALENDAR