BEGIN:VCALENDAR
VERSION:2.0
PRODID:-//Cinémathèque de la vielle du Luxembourg//Site web//FR
BEGIN:VEVENT
UID:080947e0-28bb-4b61-9669-c0514faf4027@cinematheque.lu
DTSTART;TZID=Europe/Monaco:20260609T190000
DTSTAMP:20260422T195437Z
SUMMARY:The End
LOCATION:https://cinematheque.lu/fr/programme/cinemathequeunreleased/end
END:VEVENT
END:VCALENDAR