BEGIN:VCALENDAR
VERSION:2.0
PRODID:-//Cinémathèque de la vielle du Luxembourg//Site web//FR
BEGIN:VEVENT
UID:8304a78c-986d-4b9b-a729-6c65388a57f4@cinematheque.lu
DTSTART;TZID=Europe/Monaco:20260522T180000
DTSTAMP:20260422T195708Z
SUMMARY:Le Mépris
LOCATION:https://cinematheque.lu/fr/programme/la-nouvelle-vague/le-mepris
END:VEVENT
END:VCALENDAR