BEGIN:VCALENDAR
VERSION:2.0
PRODID:-//Cinémathèque de la vielle du Luxembourg//Site web//FR
BEGIN:VEVENT
UID:2bb796f7-761d-4ee1-8322-2a532253bd26@cinematheque.lu
DTSTART;TZID=Europe/Monaco:20260614T100000
DTSTAMP:20260421T231751Z
SUMMARY:The Departed
LOCATION:https://cinematheque.lu/fr/programme/cinematic-siblings/departed
END:VEVENT
END:VCALENDAR